BEGIN:VCALENDAR
VERSION:2.0
PRODID:-//Herzlich willkommen - ECPv6.15.20//NONSGML v1.0//EN
CALSCALE:GREGORIAN
METHOD:PUBLISH
X-ORIGINAL-URL:https://www.boulefreunde-bad-nenndorf.de
X-WR-CALDESC:Veranstaltungen für Herzlich willkommen
REFRESH-INTERVAL;VALUE=DURATION:PT1H
X-Robots-Tag:noindex
X-PUBLISHED-TTL:PT1H
BEGIN:VTIMEZONE
TZID:Europe/Berlin
BEGIN:DAYLIGHT
TZOFFSETFROM:+0100
TZOFFSETTO:+0200
TZNAME:CEST
DTSTART:20240331T010000
END:DAYLIGHT
BEGIN:STANDARD
TZOFFSETFROM:+0200
TZOFFSETTO:+0100
TZNAME:CET
DTSTART:20241027T010000
END:STANDARD
BEGIN:DAYLIGHT
TZOFFSETFROM:+0100
TZOFFSETTO:+0200
TZNAME:CEST
DTSTART:20250330T010000
END:DAYLIGHT
BEGIN:STANDARD
TZOFFSETFROM:+0200
TZOFFSETTO:+0100
TZNAME:CET
DTSTART:20251026T010000
END:STANDARD
BEGIN:DAYLIGHT
TZOFFSETFROM:+0100
TZOFFSETTO:+0200
TZNAME:CEST
DTSTART:20260329T010000
END:DAYLIGHT
BEGIN:STANDARD
TZOFFSETFROM:+0200
TZOFFSETTO:+0100
TZNAME:CET
DTSTART:20261025T010000
END:STANDARD
BEGIN:DAYLIGHT
TZOFFSETFROM:+0100
TZOFFSETTO:+0200
TZNAME:CEST
DTSTART:20270328T010000
END:DAYLIGHT
BEGIN:STANDARD
TZOFFSETFROM:+0200
TZOFFSETTO:+0100
TZNAME:CET
DTSTART:20271031T010000
END:STANDARD
END:VTIMEZONE
BEGIN:VEVENT
DTSTART;VALUE=DATE:20260412
DTEND;VALUE=DATE:20260413
DTSTAMP:20260419T141850
CREATED:20260131T144115Z
LAST-MODIFIED:20260131T174745Z
UID:4414-1775952000-1776038399@www.boulefreunde-bad-nenndorf.de
SUMMARY:BLS (2. Spieltag)
DESCRIPTION:
URL:https://www.boulefreunde-bad-nenndorf.de/event/schaumburgliga-2-spieltag/
LOCATION:Verschiedene Austragungsorte
END:VEVENT
BEGIN:VEVENT
DTSTART;VALUE=DATE:20260329
DTEND;VALUE=DATE:20260330
DTSTAMP:20260419T141850
CREATED:20260131T143757Z
LAST-MODIFIED:20260131T174838Z
UID:4410-1774742400-1774828799@www.boulefreunde-bad-nenndorf.de
SUMMARY:BLS (1. Spieltag)
DESCRIPTION:
URL:https://www.boulefreunde-bad-nenndorf.de/event/schaumburgliga-1-spieltag/
LOCATION:Verschiedene Austragungsorte
END:VEVENT
BEGIN:VEVENT
DTSTART;TZID=Europe/Berlin:20260321T100000
DTEND;TZID=Europe/Berlin:20260321T170000
DTSTAMP:20260419T141850
CREATED:20260208T121141Z
LAST-MODIFIED:20260210T123028Z
UID:4568-1774087200-1774112400@www.boulefreunde-bad-nenndorf.de
SUMMARY:Trainingsworkshop des NPV in der Region Schaumburg Basic Modul II Legen
DESCRIPTION:Ausschreibung II_Modul2_21032026
URL:https://www.boulefreunde-bad-nenndorf.de/event/trainingsworkshop-des-npv-in-der-region-schaumburg-basic-modul-ii-legen/
CATEGORIES:Trainingsworkshop
ORGANIZER;CN="Boulefreunde Bad Nenndorf":MAILTO:info@boulefreunde-bad-nenndorf.de
END:VEVENT
BEGIN:VEVENT
DTSTART;TZID=Europe/Berlin:20260314T140000
DTEND;TZID=Europe/Berlin:20260314T190000
DTSTAMP:20260419T141850
CREATED:20260131T143553Z
LAST-MODIFIED:20260131T172433Z
UID:4408-1773496800-1773514800@www.boulefreunde-bad-nenndorf.de
SUMMARY:Eröffnungsboulen (nur Mitglieder)
DESCRIPTION:
URL:https://www.boulefreunde-bad-nenndorf.de/event/eroeffnungsboulen-2/
LOCATION:Waltringhausen\, Sportplatzweg 15\, Bad Nenndorf\, 31542
END:VEVENT
BEGIN:VEVENT
DTSTART;TZID=Europe/Berlin:20260314T100000
DTEND;TZID=Europe/Berlin:20260314T133000
DTSTAMP:20260419T141850
CREATED:20260131T142503Z
LAST-MODIFIED:20260131T143300Z
UID:4402-1773482400-1773495000@www.boulefreunde-bad-nenndorf.de
SUMMARY:Saubermachaktion
DESCRIPTION:
URL:https://www.boulefreunde-bad-nenndorf.de/event/saubermachaktion-waltringhausen/
LOCATION:Waltringhausen\, Sportplatzweg 15\, Bad Nenndorf\, 31542
ORGANIZER;CN="Boulefreunde Bad Nenndorf":MAILTO:info@boulefreunde-bad-nenndorf.de
END:VEVENT
BEGIN:VEVENT
DTSTART;TZID=Europe/Berlin:20260313T190000
DTEND;TZID=Europe/Berlin:20260313T220000
DTSTAMP:20260419T141850
CREATED:20251207T084115Z
LAST-MODIFIED:20260209T120239Z
UID:3391-1773428400-1773439200@www.boulefreunde-bad-nenndorf.de
SUMMARY:Jahreshauptversammlung
DESCRIPTION:Einladung+JHV+2026 \nMehrgenerationenhaus (ehem. Vereinsheim)\nDie Einladung wurde am 07.02.2026 fristgerecht an alle Mitglieder versandt.
URL:https://www.boulefreunde-bad-nenndorf.de/event/jahreshauptversammlung/
CATEGORIES:Vereins Interne Veranstaltung
ORGANIZER;CN="Boulefreunde Bad Nenndorf":MAILTO:info@boulefreunde-bad-nenndorf.de
END:VEVENT
BEGIN:VEVENT
DTSTART;TZID=Europe/Berlin:20251206T140000
DTEND;TZID=Europe/Berlin:20251206T210000
DTSTAMP:20260419T141850
CREATED:20251013T083017Z
LAST-MODIFIED:20251130T111319Z
UID:3451-1765029600-1765054800@www.boulefreunde-bad-nenndorf.de
SUMMARY:Nikolausboulen
DESCRIPTION:Nikolausboulen 2025 \nTeilnehmer Nikolausboulen 2025 (aktualisiert am 30.11.25)
URL:https://www.boulefreunde-bad-nenndorf.de/event/nikolausboulen/
CATEGORIES:Turniere
END:VEVENT
BEGIN:VEVENT
DTSTART;TZID=Europe/Berlin:20251129T180000
DTEND;TZID=Europe/Berlin:20251129T233000
DTSTAMP:20260419T141850
CREATED:20250120T102625Z
LAST-MODIFIED:20251103T081749Z
UID:3448-1764439200-1764459000@www.boulefreunde-bad-nenndorf.de
SUMMARY:Weihnachtsfeier
DESCRIPTION:Termin bitte notieren. \nDies ist eine Vereinsveranstaltung nur für Mitglieder. \n29.11.2025_Weihnachtensfeier_Einladung
URL:https://www.boulefreunde-bad-nenndorf.de/event/weihnachtsfeier-2/
CATEGORIES:Vereins Interne Veranstaltung
ORGANIZER;CN="Boulefreunde Bad Nenndorf":MAILTO:info@boulefreunde-bad-nenndorf.de
END:VEVENT
BEGIN:VEVENT
DTSTART;VALUE=DATE:20251018
DTEND;VALUE=DATE:20251019
DTSTAMP:20260419T141850
CREATED:20250120T105534Z
LAST-MODIFIED:20250120T105534Z
UID:3463-1760745600-1760831999@www.boulefreunde-bad-nenndorf.de
SUMMARY:Herbstturnier in Escher
DESCRIPTION:Herbstturnier 2025 Libre
URL:https://www.boulefreunde-bad-nenndorf.de/event/herbstturnier-in-escher/
CATEGORIES:Turniere
ORGANIZER;CN="Thekenmannschaft Escher":MAILTO:tme-boule@gmx.de
END:VEVENT
BEGIN:VEVENT
DTSTART;VALUE=DATE:20251012
DTEND;VALUE=DATE:20251013
DTSTAMP:20260419T141850
CREATED:20250821T192837Z
LAST-MODIFIED:20250821T193031Z
UID:3968-1760227200-1760313599@www.boulefreunde-bad-nenndorf.de
SUMMARY:Babas Super-Mêlée-Finalrunde & Ersatztermin
DESCRIPTION:12. Oktober 2025 \nErsatztermin \n19. Oktober 2025
URL:https://www.boulefreunde-bad-nenndorf.de/event/babas-super-melee-finalrunde-ersatztermin/
CATEGORIES:Turniere
END:VEVENT
BEGIN:VEVENT
DTSTART;VALUE=DATE:20250823
DTEND;VALUE=DATE:20250824
DTSTAMP:20260419T141850
CREATED:20250120T104609Z
LAST-MODIFIED:20250120T104656Z
UID:3457-1755907200-1755993599@www.boulefreunde-bad-nenndorf.de
SUMMARY:Stadtmeisterschaft Bad Nenndorf
DESCRIPTION:Der Finaltag der Stadtmeisterschaft ist\nam 23. August 2025 im Kurpark. \n 
URL:https://www.boulefreunde-bad-nenndorf.de/event/stadtmeisterschaft-bad-nenndorf/
LOCATION:Kurpark Bad Nenndorf
ORGANIZER;CN="Boulefreunde Bad Nenndorf":MAILTO:info@boulefreunde-bad-nenndorf.de
END:VEVENT
BEGIN:VEVENT
DTSTART;VALUE=DATE:20250622
DTEND;VALUE=DATE:20250623
DTSTAMP:20260419T141850
CREATED:20250120T143710Z
LAST-MODIFIED:20250120T143836Z
UID:3532-1750550400-1750636799@www.boulefreunde-bad-nenndorf.de
SUMMARY:NPV Spieltag Regionalliga
DESCRIPTION:Heimspieltag unserer 2. Liga – Mannschaft 
URL:https://www.boulefreunde-bad-nenndorf.de/event/npv-spieltag-regionalliga/
LOCATION:Waltringhausen\, Sportplatzweg 15\, Bad Nenndorf\, 31542
CATEGORIES:Ligaspieltage
ORGANIZER;CN="Boulefreunde Bad Nenndorf":MAILTO:info@boulefreunde-bad-nenndorf.de
END:VEVENT
BEGIN:VEVENT
DTSTART;TZID=Europe/Berlin:20250614T100000
DTEND;TZID=Europe/Berlin:20250615T170000
DTSTAMP:20260419T141850
CREATED:20241118T084724Z
LAST-MODIFIED:20241118T084725Z
UID:3393-1749895200-1750006800@www.boulefreunde-bad-nenndorf.de
SUMMARY:Jubiläumswochenende
DESCRIPTION:Wir feiern unser 20 jähriges Bestehen. \nTermin schon mal vormerken\, weitere Infos folgen……
URL:https://www.boulefreunde-bad-nenndorf.de/event/jubilaeumswochenende/
CATEGORIES:Jubiläum
ORGANIZER;CN="Boulefreunde Bad Nenndorf":MAILTO:info@boulefreunde-bad-nenndorf.de
END:VEVENT
BEGIN:VEVENT
DTSTART;VALUE=DATE:20250525
DTEND;VALUE=DATE:20250526
DTSTAMP:20260419T141850
CREATED:20250120T143305Z
LAST-MODIFIED:20250120T143541Z
UID:3528-1748131200-1748217599@www.boulefreunde-bad-nenndorf.de
SUMMARY:Heimspieltag  NPV Bezirksoberliga
DESCRIPTION:Heimspieltag unser 3. Liga – Mannschaft 
URL:https://www.boulefreunde-bad-nenndorf.de/event/heimspieltag-bezirksoberliga/
LOCATION:Waltringhausen\, Sportplatzweg 15\, Bad Nenndorf\, 31542
CATEGORIES:Ligaspieltage
ORGANIZER;CN="Boulefreunde Bad Nenndorf":MAILTO:info@boulefreunde-bad-nenndorf.de
END:VEVENT
BEGIN:VEVENT
DTSTART;VALUE=DATE:20250518
DTEND;VALUE=DATE:20250519
DTSTAMP:20260419T141850
CREATED:20250329T130510Z
LAST-MODIFIED:20250329T130823Z
UID:3644-1747526400-1747612799@www.boulefreunde-bad-nenndorf.de
SUMMARY:Zinser Cup
DESCRIPTION:Boulefreunde Rinteln Einladung Zinser Cuo
URL:https://www.boulefreunde-bad-nenndorf.de/event/zinser-cup/
CATEGORIES:Turniere
END:VEVENT
BEGIN:VEVENT
DTSTART;VALUE=DATE:20250510
DTEND;VALUE=DATE:20250511
DTSTAMP:20260419T141850
CREATED:20250120T104134Z
LAST-MODIFIED:20250505T081232Z
UID:3455-1746835200-1746921599@www.boulefreunde-bad-nenndorf.de
SUMMARY:Vereinsmeisterschaft
DESCRIPTION:In diesem Jahr spielen wir eine Tete – Meisterschaft. \nabgesagt! \n 
URL:https://www.boulefreunde-bad-nenndorf.de/event/vereinsmeisterschaft/
CATEGORIES:Vereins Interne Veranstaltung
ORGANIZER;CN="Boulefreunde Bad Nenndorf":MAILTO:info@boulefreunde-bad-nenndorf.de
END:VEVENT
BEGIN:VEVENT
DTSTART;VALUE=DATE:20250413
DTEND;VALUE=DATE:20250414
DTSTAMP:20260419T141850
CREATED:20250120T143227Z
LAST-MODIFIED:20250120T143754Z
UID:3526-1744502400-1744588799@www.boulefreunde-bad-nenndorf.de
SUMMARY:NPV Spieltag Bezirksliga
DESCRIPTION:Heimspieltag unser 4. Liga-Mannschaft
URL:https://www.boulefreunde-bad-nenndorf.de/event/heimspieltag-npv-bezirksliga/
LOCATION:Waltringhausen\, Sportplatzweg 15\, Bad Nenndorf\, 31542
CATEGORIES:Ligaspieltage
ORGANIZER;CN="Boulefreunde Bad Nenndorf":MAILTO:info@boulefreunde-bad-nenndorf.de
END:VEVENT
BEGIN:VEVENT
DTSTART;VALUE=DATE:20250330
DTEND;VALUE=DATE:20250331
DTSTAMP:20260419T141850
CREATED:20250120T110133Z
LAST-MODIFIED:20250120T110133Z
UID:3469-1743292800-1743379199@www.boulefreunde-bad-nenndorf.de
SUMMARY:Vergleichskampf in Wiedensahl
DESCRIPTION:Zur Vorbereitung für die Liga Saison spielen\ndie 1. u. 2. Bad Nenndorfer Mannschaft in Wiedensahl. \n 
URL:https://www.boulefreunde-bad-nenndorf.de/event/vergleichskampf-in-wiedensahl/
CATEGORIES:Vereins Interne Veranstaltung
END:VEVENT
BEGIN:VEVENT
DTSTART;VALUE=DATE:20250322
DTEND;VALUE=DATE:20250323
DTSTAMP:20260419T141850
CREATED:20250120T103654Z
LAST-MODIFIED:20260131T172546Z
UID:3453-1742601600-1742687999@www.boulefreunde-bad-nenndorf.de
SUMMARY:Eröffnungsboulen
DESCRIPTION:Einladung Eröffnungsboulen 2025 \ninfo@boulefreunde-bad-nenndorf.de \nStart der Veranstaltung ist um 10 Uhr
URL:https://www.boulefreunde-bad-nenndorf.de/event/eroeffnungsboulen/
LOCATION:Waltringhausen\, Sportplatzweg 15\, Bad Nenndorf\, 31542
CATEGORIES:Turniere
ORGANIZER;CN="Boulefreunde Bad Nenndorf":MAILTO:info@boulefreunde-bad-nenndorf.de
END:VEVENT
END:VCALENDAR