BEGIN:VCALENDAR
VERSION:2.0
PRODID:-//Herzlich willkommen - ECPv6.15.20//NONSGML v1.0//EN
CALSCALE:GREGORIAN
METHOD:PUBLISH
X-WR-CALNAME:Herzlich willkommen
X-ORIGINAL-URL:https://www.boulefreunde-bad-nenndorf.de
X-WR-CALDESC:Veranstaltungen für Herzlich willkommen
REFRESH-INTERVAL;VALUE=DURATION:PT1H
X-Robots-Tag:noindex
X-PUBLISHED-TTL:PT1H
BEGIN:VTIMEZONE
TZID:Europe/Berlin
BEGIN:DAYLIGHT
TZOFFSETFROM:+0100
TZOFFSETTO:+0200
TZNAME:CEST
DTSTART:20250330T010000
END:DAYLIGHT
BEGIN:STANDARD
TZOFFSETFROM:+0200
TZOFFSETTO:+0100
TZNAME:CET
DTSTART:20251026T010000
END:STANDARD
BEGIN:DAYLIGHT
TZOFFSETFROM:+0100
TZOFFSETTO:+0200
TZNAME:CEST
DTSTART:20260329T010000
END:DAYLIGHT
BEGIN:STANDARD
TZOFFSETFROM:+0200
TZOFFSETTO:+0100
TZNAME:CET
DTSTART:20261025T010000
END:STANDARD
BEGIN:DAYLIGHT
TZOFFSETFROM:+0100
TZOFFSETTO:+0200
TZNAME:CEST
DTSTART:20270328T010000
END:DAYLIGHT
BEGIN:STANDARD
TZOFFSETFROM:+0200
TZOFFSETTO:+0100
TZNAME:CET
DTSTART:20271031T010000
END:STANDARD
END:VTIMEZONE
BEGIN:VEVENT
DTSTART;TZID=Europe/Berlin:20260715T180000
DTEND;TZID=Europe/Berlin:20260715T220000
DTSTAMP:20260419T154724
CREATED:20260407T164319Z
LAST-MODIFIED:20260407T164331Z
UID:5043-1784138400-1784152800@www.boulefreunde-bad-nenndorf.de
SUMMARY:Boulefreunde-Babas Super-Mêlée 2026 (7)
DESCRIPTION:Anmeldung bis zum 13.07.2026 unter babasboule@freenet.de erforderlich
URL:https://www.boulefreunde-bad-nenndorf.de/event/boulefreunde-babas-super-melee-2026-7/
LOCATION:Babas: 31542 Bad Nenndorf\, Hauptstraße 37
END:VEVENT
BEGIN:VEVENT
DTSTART;VALUE=DATE:20260718
DTEND;VALUE=DATE:20260720
DTSTAMP:20260419T154724
CREATED:20260131T165324Z
LAST-MODIFIED:20260131T165324Z
UID:4474-1784332800-1784505599@www.boulefreunde-bad-nenndorf.de
SUMMARY:DM Triplette Frauen
DESCRIPTION:
URL:https://www.boulefreunde-bad-nenndorf.de/event/dm-triplette-frauen/
LOCATION:Tornesch (Schleswig-Holstein)
END:VEVENT
BEGIN:VEVENT
DTSTART;TZID=Europe/Berlin:20260718T150000
DTEND;TZID=Europe/Berlin:20260718T233000
DTSTAMP:20260419T154724
CREATED:20260131T164835Z
LAST-MODIFIED:20260131T173756Z
UID:4472-1784386800-1784417400@www.boulefreunde-bad-nenndorf.de
SUMMARY:Nachtboulen Hattendorf
DESCRIPTION:
URL:https://www.boulefreunde-bad-nenndorf.de/event/nachtboulen/
LOCATION:Hattendorf
END:VEVENT
BEGIN:VEVENT
DTSTART;VALUE=DATE:20260725
DTEND;VALUE=DATE:20260726
DTSTAMP:20260419T154724
CREATED:20260131T170137Z
LAST-MODIFIED:20260131T170137Z
UID:4488-1784937600-1785023999@www.boulefreunde-bad-nenndorf.de
SUMMARY:Fehmarn Nothern Open (2:2)
DESCRIPTION:
URL:https://www.boulefreunde-bad-nenndorf.de/event/fehmarn-nothern-open-22/
LOCATION:Burgstaaken am Hafen
END:VEVENT
BEGIN:VEVENT
DTSTART;VALUE=DATE:20260726
DTEND;VALUE=DATE:20260727
DTSTAMP:20260419T154724
CREATED:20260131T170230Z
LAST-MODIFIED:20260131T170230Z
UID:4491-1785024000-1785110399@www.boulefreunde-bad-nenndorf.de
SUMMARY:Fehmarn Nothern Open (3:3)
DESCRIPTION:
URL:https://www.boulefreunde-bad-nenndorf.de/event/fehmarn-nothern-open-33/
LOCATION:Burgstaaken am Hafen
END:VEVENT
BEGIN:VEVENT
DTSTART;VALUE=DATE:20260801
DTEND;VALUE=DATE:20260804
DTSTAMP:20260419T154724
CREATED:20260131T174332Z
LAST-MODIFIED:20260131T174332Z
UID:4544-1785542400-1785801599@www.boulefreunde-bad-nenndorf.de
SUMMARY:Holstentorturnier Travemünde
DESCRIPTION:
URL:https://www.boulefreunde-bad-nenndorf.de/event/holstentorturnier-travemuende/
END:VEVENT
BEGIN:VEVENT
DTSTART;VALUE=DATE:20260808
DTEND;VALUE=DATE:20260809
DTSTAMP:20260419T154724
CREATED:20260131T165459Z
LAST-MODIFIED:20260202T191033Z
UID:4477-1786147200-1786233599@www.boulefreunde-bad-nenndorf.de
SUMMARY:Vorturniere LM Doublette
DESCRIPTION:
URL:https://www.boulefreunde-bad-nenndorf.de/event/vorturniere-lm-doublette/
LOCATION:Wiedensahl
END:VEVENT
BEGIN:VEVENT
DTSTART;VALUE=DATE:20260809
DTEND;VALUE=DATE:20260810
DTSTAMP:20260419T154724
CREATED:20260131T165556Z
LAST-MODIFIED:20260202T191156Z
UID:4479-1786233600-1786319999@www.boulefreunde-bad-nenndorf.de
SUMMARY:LM Doublette
DESCRIPTION:
URL:https://www.boulefreunde-bad-nenndorf.de/event/lm-doublette/
LOCATION:Wiedensahl
END:VEVENT
BEGIN:VEVENT
DTSTART;TZID=Europe/Berlin:20260811T180000
DTEND;TZID=Europe/Berlin:20260811T220000
DTSTAMP:20260419T154724
CREATED:20260407T164529Z
LAST-MODIFIED:20260407T164529Z
UID:5046-1786471200-1786485600@www.boulefreunde-bad-nenndorf.de
SUMMARY:Boulefreunde-Babas Super-Mêlée 2026 (8)
DESCRIPTION:Anmeldung bis zum 09.08.2026 unter babasboule@freenet.de erforderlich
URL:https://www.boulefreunde-bad-nenndorf.de/event/boulefreunde-babas-super-melee-2026-8/
LOCATION:Babas: 31542 Bad Nenndorf\, Hauptstraße 37
END:VEVENT
BEGIN:VEVENT
DTSTART;VALUE=DATE:20260815
DTEND;VALUE=DATE:20260816
DTSTAMP:20260419T154724
CREATED:20260131T165732Z
LAST-MODIFIED:20260131T165732Z
UID:4481-1786752000-1786838399@www.boulefreunde-bad-nenndorf.de
SUMMARY:Vorturniere LM 55+ (3:3)
DESCRIPTION:
URL:https://www.boulefreunde-bad-nenndorf.de/event/vorturniere-lm-55-33/
LOCATION:Hattendorf
END:VEVENT
BEGIN:VEVENT
DTSTART;VALUE=DATE:20260816
DTEND;VALUE=DATE:20260817
DTSTAMP:20260419T154724
CREATED:20260131T165850Z
LAST-MODIFIED:20260210T185113Z
UID:4483-1786838400-1786924799@www.boulefreunde-bad-nenndorf.de
SUMMARY:LM 55+ (3:3)
DESCRIPTION:
URL:https://www.boulefreunde-bad-nenndorf.de/event/lm-55-33/
LOCATION:BSV Gleidingen
END:VEVENT
BEGIN:VEVENT
DTSTART;VALUE=DATE:20260816
DTEND;VALUE=DATE:20260817
DTSTAMP:20260419T154724
CREATED:20260131T170007Z
LAST-MODIFIED:20260131T173707Z
UID:4486-1786838400-1786924799@www.boulefreunde-bad-nenndorf.de
SUMMARY:Amazonenturnier (2:2) Goltern
DESCRIPTION:
URL:https://www.boulefreunde-bad-nenndorf.de/event/amazonenturnier-22/
LOCATION:Grün Weiß Goltern
END:VEVENT
BEGIN:VEVENT
DTSTART;VALUE=DATE:20260822
DTEND;VALUE=DATE:20260823
DTSTAMP:20260419T154724
CREATED:20260131T170340Z
LAST-MODIFIED:20260131T170340Z
UID:4493-1787356800-1787443199@www.boulefreunde-bad-nenndorf.de
SUMMARY:Allertalturnier (2:2)
DESCRIPTION:
URL:https://www.boulefreunde-bad-nenndorf.de/event/allertalturnier-22/
LOCATION:Essel
END:VEVENT
BEGIN:VEVENT
DTSTART;VALUE=DATE:20260822
DTEND;VALUE=DATE:20260824
DTSTAMP:20260419T154724
CREATED:20260131T170603Z
LAST-MODIFIED:20260131T170603Z
UID:4498-1787356800-1787529599@www.boulefreunde-bad-nenndorf.de
SUMMARY:DM Doublette
DESCRIPTION:
URL:https://www.boulefreunde-bad-nenndorf.de/event/dm-doublette/
LOCATION:Saarlouis / Nähe Saarbrücken
END:VEVENT
BEGIN:VEVENT
DTSTART;VALUE=DATE:20260823
DTEND;VALUE=DATE:20260824
DTSTAMP:20260419T154724
CREATED:20260131T170430Z
LAST-MODIFIED:20260131T170430Z
UID:4496-1787443200-1787529599@www.boulefreunde-bad-nenndorf.de
SUMMARY:Leinetalturnier (3:3)
DESCRIPTION:
URL:https://www.boulefreunde-bad-nenndorf.de/event/leinetalturnier-33/
LOCATION:Essel
END:VEVENT
BEGIN:VEVENT
DTSTART;VALUE=DATE:20260823
DTEND;VALUE=DATE:20260824
DTSTAMP:20260419T154724
CREATED:20260227T193906Z
LAST-MODIFIED:20260313T134221Z
UID:4887-1787443200-1787529599@www.boulefreunde-bad-nenndorf.de
SUMMARY:Stadt- und Samtgemeinde-Boule-Meisterschaft 2026
DESCRIPTION:Weitere Informationen folgen
URL:https://www.boulefreunde-bad-nenndorf.de/event/stadt-und-samtgemeinde-boule-meisterschaft-2026/
LOCATION:Kurpark Bad Nenndorf
END:VEVENT
BEGIN:VEVENT
DTSTART;TZID=Europe/Berlin:20260827T180000
DTEND;TZID=Europe/Berlin:20260827T180000
DTSTAMP:20260419T154724
CREATED:20260407T161049Z
LAST-MODIFIED:20260407T161102Z
UID:5023-1787853600-1787853600@www.boulefreunde-bad-nenndorf.de
SUMMARY:Boulefreunde-Babas Super-Mêlée 2026 (9)
DESCRIPTION:
URL:https://www.boulefreunde-bad-nenndorf.de/event/boulefreunde-babas-super-melee-2026-9/
LOCATION:Waltringhausen\, Sportplatzweg 15\, Bad Nenndorf\, 31542
END:VEVENT
BEGIN:VEVENT
DTSTART;VALUE=DATE:20260830
DTEND;VALUE=DATE:20260831
DTSTAMP:20260419T154724
CREATED:20260131T170709Z
LAST-MODIFIED:20260131T170709Z
UID:4501-1788048000-1788134399@www.boulefreunde-bad-nenndorf.de
SUMMARY:NPV - 5. Spieltag
DESCRIPTION:
URL:https://www.boulefreunde-bad-nenndorf.de/event/npv-5-spieltag/
LOCATION:Verschiedene Austragungsorte
END:VEVENT
BEGIN:VEVENT
DTSTART;VALUE=DATE:20260905
DTEND;VALUE=DATE:20260906
DTSTAMP:20260419T154724
CREATED:20260131T170832Z
LAST-MODIFIED:20260227T100322Z
UID:4503-1788566400-1788652799@www.boulefreunde-bad-nenndorf.de
SUMMARY:Vorturniere LM (1:1) und Tireur
DESCRIPTION:
URL:https://www.boulefreunde-bad-nenndorf.de/event/vorturniere-lm-11-und-tireur/
LOCATION:Bezirk 4\, Krankenhagen
END:VEVENT
BEGIN:VEVENT
DTSTART;VALUE=DATE:20260906
DTEND;VALUE=DATE:20260907
DTSTAMP:20260419T154724
CREATED:20260131T171001Z
LAST-MODIFIED:20260131T171001Z
UID:4505-1788652800-1788739199@www.boulefreunde-bad-nenndorf.de
SUMMARY:LM 1:1 und Tireur
DESCRIPTION:
URL:https://www.boulefreunde-bad-nenndorf.de/event/lm-11-und-tireur/
LOCATION:Bezirk 1\, Lüneburg
END:VEVENT
BEGIN:VEVENT
DTSTART;TZID=Europe/Berlin:20260909T180000
DTEND;TZID=Europe/Berlin:20260909T220000
DTSTAMP:20260419T154724
CREATED:20260407T164716Z
LAST-MODIFIED:20260407T165723Z
UID:5048-1788976800-1788991200@www.boulefreunde-bad-nenndorf.de
SUMMARY:Boulefreunde-Babas Super-Mêlée 2026 (10)
DESCRIPTION:Anmeldung bis zum 07.09.2026 unter babasboule@freenet.de erforderlich
URL:https://www.boulefreunde-bad-nenndorf.de/event/boulefreunde-babas-super-melee-2026-10/
LOCATION:Babas: 31542 Bad Nenndorf\, Hauptstraße 37
END:VEVENT
BEGIN:VEVENT
DTSTART;VALUE=DATE:20260912
DTEND;VALUE=DATE:20260914
DTSTAMP:20260419T154724
CREATED:20260131T171133Z
LAST-MODIFIED:20260131T171133Z
UID:4508-1789171200-1789343999@www.boulefreunde-bad-nenndorf.de
SUMMARY:DM Triplette 55+
DESCRIPTION:
URL:https://www.boulefreunde-bad-nenndorf.de/event/dm-triplette-55/
LOCATION:Recklinghausen
END:VEVENT
BEGIN:VEVENT
DTSTART;VALUE=DATE:20260919
DTEND;VALUE=DATE:20260921
DTSTAMP:20260419T154724
CREATED:20260131T171244Z
LAST-MODIFIED:20260131T171244Z
UID:4511-1789776000-1789948799@www.boulefreunde-bad-nenndorf.de
SUMMARY:DM 1:1 und Tireur
DESCRIPTION:
URL:https://www.boulefreunde-bad-nenndorf.de/event/dm-11-und-tireur/
LOCATION:Beelen (NRW)
END:VEVENT
BEGIN:VEVENT
DTSTART;TZID=Europe/Berlin:20260922T180000
DTEND;TZID=Europe/Berlin:20260922T220000
DTSTAMP:20260419T154724
CREATED:20260407T165454Z
LAST-MODIFIED:20260407T165510Z
UID:5050-1790100000-1790114400@www.boulefreunde-bad-nenndorf.de
SUMMARY:Boulefreunde-Babas Super-Mêlée 2026 (11)
DESCRIPTION:
URL:https://www.boulefreunde-bad-nenndorf.de/event/boulefreunde-babas-super-melee-2026-11-2/
LOCATION:Waltringhausen\, Sportplatzweg 15\, Bad Nenndorf\, 31542
END:VEVENT
BEGIN:VEVENT
DTSTART;VALUE=DATE:20260927
DTEND;VALUE=DATE:20260928
DTSTAMP:20260419T154724
CREATED:20260131T171351Z
LAST-MODIFIED:20260131T173521Z
UID:4514-1790467200-1790553599@www.boulefreunde-bad-nenndorf.de
SUMMARY:BLS (4. Spieltag)
DESCRIPTION:
URL:https://www.boulefreunde-bad-nenndorf.de/event/bls-4-spieltag/
LOCATION:Verschiedene Austragungsorte
END:VEVENT
BEGIN:VEVENT
DTSTART;TZID=Europe/Berlin:20261001T180000
DTEND;TZID=Europe/Berlin:20261001T220000
DTSTAMP:20260419T154724
CREATED:20260407T161242Z
LAST-MODIFIED:20260407T161304Z
UID:5027-1790877600-1790892000@www.boulefreunde-bad-nenndorf.de
SUMMARY:Boulefreunde-Babas Super-Mêlée 2026 (12)
DESCRIPTION:
URL:https://www.boulefreunde-bad-nenndorf.de/event/boulefreunde-babas-super-melee-2026-1/
LOCATION:Waltringhausen\, Sportplatzweg 15\, Bad Nenndorf\, 31542
END:VEVENT
BEGIN:VEVENT
DTSTART;VALUE=DATE:20261010
DTEND;VALUE=DATE:20261011
DTSTAMP:20260419T154724
CREATED:20260131T171448Z
LAST-MODIFIED:20260131T173624Z
UID:4516-1791590400-1791676799@www.boulefreunde-bad-nenndorf.de
SUMMARY:Herbstturnier Escher (3:3)
DESCRIPTION:
URL:https://www.boulefreunde-bad-nenndorf.de/event/herbstturnier-33/
ORGANIZER;CN="Thekenmannschaft Escher":MAILTO:tme-boule@gmx.de
END:VEVENT
BEGIN:VEVENT
DTSTART;VALUE=DATE:20261010
DTEND;VALUE=DATE:20261011
DTSTAMP:20260419T154724
CREATED:20260131T171546Z
LAST-MODIFIED:20260131T171546Z
UID:4518-1791590400-1791676799@www.boulefreunde-bad-nenndorf.de
SUMMARY:NPV-Pokal\, Final Four
DESCRIPTION:
URL:https://www.boulefreunde-bad-nenndorf.de/event/npv-pokal-final-four/
LOCATION:Essel
END:VEVENT
BEGIN:VEVENT
DTSTART;VALUE=DATE:20261017
DTEND;VALUE=DATE:20261018
DTSTAMP:20260419T154724
CREATED:20260407T161531Z
LAST-MODIFIED:20260407T161531Z
UID:5030-1792195200-1792281599@www.boulefreunde-bad-nenndorf.de
SUMMARY:Finale Boulefreunde-Babas Super-Mêlée 2026
DESCRIPTION:Ersatztermin am 24.10.2026
URL:https://www.boulefreunde-bad-nenndorf.de/event/finale-boulefreunde-babas-super-melee-2026/
LOCATION:Waltringhausen\, Sportplatzweg 15\, Bad Nenndorf\, 31542
END:VEVENT
BEGIN:VEVENT
DTSTART;VALUE=DATE:20261024
DTEND;VALUE=DATE:20261025
DTSTAMP:20260419T154724
CREATED:20260407T162103Z
LAST-MODIFIED:20260407T162103Z
UID:5034-1792800000-1792886399@www.boulefreunde-bad-nenndorf.de
SUMMARY:Ersatztermin: Finale Boulefreunde-Babas Super-Mêlée 2026
DESCRIPTION:für den Fall\, dass am 17.10.2026 Schnee fällt
URL:https://www.boulefreunde-bad-nenndorf.de/event/ersatztermin-finale-boulefreunde-babas-super-melee-2026/
LOCATION:Waltringhausen\, Sportplatzweg 15\, Bad Nenndorf\, 31542
END:VEVENT
END:VCALENDAR